BEGIN:VCALENDAR
VERSION:2.0
PRODID:-//Northwoods Riders - ECPv6.15.20//NONSGML v1.0//EN
CALSCALE:GREGORIAN
METHOD:PUBLISH
X-ORIGINAL-URL:https://northwoodsriders.org
X-WR-CALDESC:Events for Northwoods Riders
REFRESH-INTERVAL;VALUE=DURATION:PT1H
X-Robots-Tag:noindex
X-PUBLISHED-TTL:PT1H
BEGIN:VTIMEZONE
TZID:UTC
BEGIN:STANDARD
TZOFFSETFROM:+0000
TZOFFSETTO:+0000
TZNAME:UTC
DTSTART:20210101T000000
END:STANDARD
END:VTIMEZONE
BEGIN:VEVENT
DTSTART;TZID=UTC:20220205T110000
DTEND;TZID=UTC:20220205T150000
DTSTAMP:20260422T072744
CREATED:20220107T060139Z
LAST-MODIFIED:20220107T060139Z
UID:11493-1644058800-1644073200@northwoodsriders.org
SUMMARY:Northwoods Riders Trailside Cookout
DESCRIPTION:Held at the Riders Club Garage on Co Rd L north of Nokomis Road (across from Nokomis Fire Department).  Come by snowmobile\, car\, UTV or whatever!  Festivities begin at 11:00 and run until 3:00pm.  Burgers\, brats\, chili and beverages provided.  Bonfire!
URL:https://northwoodsriders.org/event/northwoods-riders-trailside-cookout/
LOCATION:WI
END:VEVENT
BEGIN:VEVENT
DTSTART;TZID=UTC:20220206T090000
DTEND;TZID=UTC:20220206T120000
DTSTAMP:20260422T072744
CREATED:20220107T061531Z
LAST-MODIFIED:20220107T061531Z
UID:11503-1644138000-1644148800@northwoodsriders.org
SUMMARY:Club Breakfast
DESCRIPTION:The club is hosting its annual member breakfast again this year!  It will be held at Billy Bob’s this year – with a buffet style breakfast served.  The breakfast is free to club members.  Doors open at 9:00 – breakfast served until noon.  We will have 50/50 drawings and spinning wheels on site.
URL:https://northwoodsriders.org/event/club-breakfast-2/
LOCATION:WI
END:VEVENT
BEGIN:VEVENT
DTSTART;TZID=UTC:20220209T120000
DTEND;TZID=UTC:20220209T220000
DTSTAMP:20260422T072744
CREATED:20220107T060522Z
LAST-MODIFIED:20220107T060522Z
UID:11497-1644408000-1644444000@northwoodsriders.org
SUMMARY:Group Rides
DESCRIPTION:There will be two group rides this day! \nThe first will leave Somo Beach Resort at noon.  Route to be determined.  We will shoot be be done by 5:00pm – ending at the Tilted Loon Saloon. \nThe second will leave the Tilted Loon Saloon around 6:00pm.  Route to be determined.  This ride will shoot to be finished by 10:00pm.
URL:https://northwoodsriders.org/event/group-rides/
LOCATION:WI
END:VEVENT
BEGIN:VEVENT
DTSTART;TZID=UTC:20220219T090000
DTEND;TZID=UTC:20220219T170000
DTSTAMP:20260422T072744
CREATED:20220107T061805Z
LAST-MODIFIED:20220107T061805Z
UID:11507-1645261200-1645290000@northwoodsriders.org
SUMMARY:Northwoods Passage Fisheree - Maday's Fish Trap
DESCRIPTION:Fish Trap will be hosting their annual fundraiser fishing tournament on Lake Nokomis.  Check Northwoods Passage website/facebook for details.
URL:https://northwoodsriders.org/event/northwoods-passage-fisheree-madays-fish-trap/
LOCATION:WI
END:VEVENT
BEGIN:VEVENT
DTSTART;TZID=UTC:20220219T120000
DTEND;TZID=UTC:20220219T170000
DTSTAMP:20260422T072744
CREATED:20220107T061938Z
LAST-MODIFIED:20220107T061938Z
UID:11509-1645272000-1645290000@northwoodsriders.org
SUMMARY:Northwoods Passage Sled Raffle and Cookout
DESCRIPTION:Event will be held at Somo Beach Resort – starting at noon.  Burgers and brats will be available along with a bonfire.  Sled raffle drawing takes place at 4:00pm.
URL:https://northwoodsriders.org/event/northwoods-passage-sled-raffle-and-cookout/
LOCATION:WI
END:VEVENT
END:VCALENDAR