BEGIN:VCALENDAR
VERSION:2.0
PRODID:-//Northwoods Riders - ECPv6.15.20//NONSGML v1.0//EN
CALSCALE:GREGORIAN
METHOD:PUBLISH
X-WR-CALNAME:Northwoods Riders
X-ORIGINAL-URL:https://northwoodsriders.org
X-WR-CALDESC:Events for Northwoods Riders
REFRESH-INTERVAL;VALUE=DURATION:PT1H
X-Robots-Tag:noindex
X-PUBLISHED-TTL:PT1H
BEGIN:VTIMEZONE
TZID:UTC
BEGIN:STANDARD
TZOFFSETFROM:+0000
TZOFFSETTO:+0000
TZNAME:UTC
DTSTART:20210101T000000
END:STANDARD
END:VTIMEZONE
BEGIN:VEVENT
DTSTART;TZID=UTC:20220303T164500
DTEND;TZID=UTC:20220303T213000
DTSTAMP:20260422T055412
CREATED:20220301T220722Z
LAST-MODIFIED:20220301T220722Z
UID:11575-1646325900-1646343000@northwoodsriders.org
SUMMARY:Club Ride
DESCRIPTION:Leaving Fish Trap at 4:45pm.  Stops at Alpine Resort and Pickles Bar & Grill.  Approximately 50 miles.
URL:https://northwoodsriders.org/event/club-ride-2/
LOCATION:WI
END:VEVENT
BEGIN:VEVENT
DTSTART;TZID=UTC:20220312T170000
DTEND;TZID=UTC:20220312T220000
DTSTAMP:20260422T055412
CREATED:20220107T062111Z
LAST-MODIFIED:20220107T062111Z
UID:11511-1647104400-1647122400@northwoodsriders.org
SUMMARY:Northwoods Passage Winter Celebration
DESCRIPTION:Event will be held at Inshall again this year.  Must purchase tickets in advance.  Drawings and lots of give-aways!  Meal included in ticket price.
URL:https://northwoodsriders.org/event/northwoods-passage-winter-celebration/
LOCATION:WI
END:VEVENT
END:VCALENDAR